BEGIN:VCALENDAR
VERSION:2.0
PRODID:-//Caminhos de Anura - ECPv6.3.3.1//NONSGML v1.0//EN
CALSCALE:GREGORIAN
METHOD:PUBLISH
X-WR-CALNAME:Caminhos de Anura
X-ORIGINAL-URL:https://www.caminhosdeanura.com
X-WR-CALDESC:Events for Caminhos de Anura
REFRESH-INTERVAL;VALUE=DURATION:PT1H
X-Robots-Tag:noindex
X-PUBLISHED-TTL:PT1H
BEGIN:VTIMEZONE
TZID:Europe/Lisbon
BEGIN:DAYLIGHT
TZOFFSETFROM:+0000
TZOFFSETTO:+0100
TZNAME:WEST
DTSTART:20240331T010000
END:DAYLIGHT
BEGIN:STANDARD
TZOFFSETFROM:+0100
TZOFFSETTO:+0000
TZNAME:WET
DTSTART:20241027T010000
END:STANDARD
END:VTIMEZONE
BEGIN:VEVENT
DTSTART;TZID=Europe/Lisbon:20241020T143000
DTEND;TZID=Europe/Lisbon:20241020T173000
DTSTAMP:20260423T070831
CREATED:20240927T152028Z
LAST-MODIFIED:20240927T152028Z
UID:6833-1729434600-1729445400@www.caminhosdeanura.com
SUMMARY:Constelações da Alma - Funchal
DESCRIPTION:As Constelações da Alma (também chamadas constelações sistémicas ou familiares) que facilito\, são uma jornada profunda no universo das dinâmicas familiares ocultas. Esta técnica terapêutica não só desvenda padrões e emoções enraizadas na história familiar\, mas também abre caminhos para a resolução de conflitos e questões emocionais. Ao final de cada sessão\, realizo um trabalho de harmonização e reequilíbrio físico\, mental e emocional através das Terapias de Anura\, criando um elo perfeito entre a descoberta interior e o bem-estar integral. \nEstas sessões são um convite à transformação pessoal\, permitindo-te alinhar com a tua verdadeira essência e potencial de vida. Vais adorar este bálsamo vindo da Mãe Terra\, uma combinação enriquecedora que liga o poder das Constelações ao equilíbrio das Terapias de Anura. \n✤ Valor: 60€ por pessoa \nEstarei no Funchal no “Portal das Artes” a facilitar constelações no dia 20 de outubro (parte da tarde). \n▶︎ Para te inscreveres por favor envia um email para eventos.esmeraldarios@gmail.com \nCom carinho\, \nEsmeralda \nNota: Nos dias 18 e 19 estarei também a dar Consultas Individuais no Portal das Artes. Sabe mais no separador “Consultas” na agenda.
URL:https://www.caminhosdeanura.com/agenda/constelacoes-da-alma-funchal-3/
LOCATION:Funchal\, Rua do Esmeraldo\, 41 São Martinho\, Funchal\, Madeira\, 9000-051\, Portugal
CATEGORIES:Constelações
END:VEVENT
END:VCALENDAR