BEGIN:VCALENDAR
VERSION:2.0
PRODID:-//Caminhos de Anura - ECPv6.3.3.1//NONSGML v1.0//EN
CALSCALE:GREGORIAN
METHOD:PUBLISH
X-ORIGINAL-URL:https://www.caminhosdeanura.com
X-WR-CALDESC:Events for Caminhos de Anura
REFRESH-INTERVAL;VALUE=DURATION:PT1H
X-Robots-Tag:noindex
X-PUBLISHED-TTL:PT1H
BEGIN:VTIMEZONE
TZID:Europe/Lisbon
BEGIN:DAYLIGHT
TZOFFSETFROM:+0000
TZOFFSETTO:+0100
TZNAME:WEST
DTSTART:20250330T010000
END:DAYLIGHT
BEGIN:STANDARD
TZOFFSETFROM:+0100
TZOFFSETTO:+0000
TZNAME:WET
DTSTART:20251026T010000
END:STANDARD
END:VTIMEZONE
BEGIN:VEVENT
DTSTART;TZID=Europe/Lisbon:20250406T100000
DTEND;TZID=Europe/Lisbon:20250406T180000
DTSTAMP:20260421T045841
CREATED:20250319T093148Z
LAST-MODIFIED:20250402T082234Z
UID:7052-1743933600-1743962400@www.caminhosdeanura.com
SUMMARY:Constelações da Alma - Matosinhos
DESCRIPTION:As Constelações da Alma (também chamadas constelações sistémicas ou familiares) que facilito\, são uma jornada profunda no universo das dinâmicas familiares ocultas. Esta técnica terapêutica não só desvenda padrões e emoções enraizadas na história familiar\, mas também abre caminhos para a resolução de conflitos e questões emocionais. Ao final de cada sessão\, realizo um trabalho de harmonização e reequilíbrio físico\, mental e emocional através das Terapias de Anura\, criando um elo perfeito entre a descoberta interior e o bem-estar integral. \nEstas sessões são um convite à transformação pessoal\, permitindo-te alinhar-te com a tua verdadeira essência e potencial de vida. Vais adorar este bálsamo vindo da Mãe Terra\, uma combinação enriquecedora que liga o poder das Constelações ao equilíbrio das Terapias de Anura. \n✤ Valor: 65€ por pessoa \nEstarei em Matosinhos no “Espaço de Metamorfose” a facilitar constelações no dia 6 de abril (parte da tarde). \n▶︎ Para te inscreveres envia um email para eventos.esmeraldarios@gmail.com \nCom carinho\, \nEsmeralda Rios \nNota: Neste mesmo fim-de-semana estarei também a dar Consultas Individuais no Espaço Metamorfose. Sabe mais no separador “Consultas” na agenda.
URL:https://www.caminhosdeanura.com/agenda/constelacoes-da-alma-matosinhos-6/
LOCATION:Matosinhos\, Rua Conde Alto Mearim\, 758\, 1º Andar\, Sala 4\, Matosinhos\, Portugal
CATEGORIES:Constelações
ATTACH;FMTTYPE=image/png:https://www.caminhosdeanura.com/wp-content/uploads/4-3.png
END:VEVENT
BEGIN:VEVENT
DTSTART;TZID=Europe/Lisbon:20250406T140000
DTEND;TZID=Europe/Lisbon:20250406T173000
DTSTAMP:20260421T045841
CREATED:20250402T081349Z
LAST-MODIFIED:20250402T081821Z
UID:7072-1743948000-1743960600@www.caminhosdeanura.com
SUMMARY:Constelações da Alma - Santa Maria da Feira
DESCRIPTION:As Constelações da Alma (também chamadas constelações sistémicas ou familiares) que facilito\, são uma jornada profunda no universo das dinâmicas familiares ocultas. Esta técnica terapêutica não só desvenda padrões e emoções enraizadas na história familiar\, mas também abre caminhos para a resolução de conflitos e questões emocionais. Ao final de cada sessão\, realizo um trabalho de harmonização e reequilíbrio físico\, mental e emocional através das Terapias de Anura\, criando um elo perfeito entre a descoberta interior e o bem-estar integral. \nEstas sessões são um convite à transformação pessoal\, permitindo-te alinhar com a tua verdadeira essência e potencial de vida. Vais adorar este bálsamo vindo da Mãe Terra\, uma combinação enriquecedora que liga o poder das Constelações ao equilíbrio das Terapias de Anura. \n✤ Valor: 65€ por pessoa \nEstarei em Santa Maria da Feira\, Rua de Santa Maria da Feira\, Loja 58 a facilitar constelações no dia 6 de abril. \n▶︎ Para te inscreveres e descobrires mais\, clica aqui.  Em alternativa\, envia um email para eventos.esmeraldarios@gmail.com \nCom carinho\, \nEsmeralda
URL:https://www.caminhosdeanura.com/agenda/constelacoes-da-alma-santa-maria-da-feira-3/
LOCATION:Santa Maria da Feira\, Rua Santa Maria da Feira\, Loja 58\, Santa Maria da Feira\, 4520-294\, Portugal
CATEGORIES:Constelações
ATTACH;FMTTYPE=image/png:https://www.caminhosdeanura.com/wp-content/uploads/1-4.png
END:VEVENT
END:VCALENDAR