BEGIN:VCALENDAR
VERSION:2.0
PRODID:-//Caminhos de Anura - ECPv6.3.3.1//NONSGML v1.0//EN
CALSCALE:GREGORIAN
METHOD:PUBLISH
X-ORIGINAL-URL:https://www.caminhosdeanura.com
X-WR-CALDESC:Events for Caminhos de Anura
REFRESH-INTERVAL;VALUE=DURATION:PT1H
X-Robots-Tag:noindex
X-PUBLISHED-TTL:PT1H
BEGIN:VTIMEZONE
TZID:Europe/Lisbon
BEGIN:DAYLIGHT
TZOFFSETFROM:+0000
TZOFFSETTO:+0100
TZNAME:WEST
DTSTART:20240331T010000
END:DAYLIGHT
BEGIN:STANDARD
TZOFFSETFROM:+0100
TZOFFSETTO:+0000
TZNAME:WET
DTSTART:20241027T010000
END:STANDARD
END:VTIMEZONE
BEGIN:VEVENT
DTSTART;TZID=Europe/Lisbon:20240915T143000
DTEND;TZID=Europe/Lisbon:20240915T170000
DTSTAMP:20260423T065255
CREATED:20240902T190152Z
LAST-MODIFIED:20240902T190232Z
UID:6809-1726410600-1726419600@www.caminhosdeanura.com
SUMMARY:Constelações da Alma - Santa Maria da Feira
DESCRIPTION:As Constelações da Alma (também chamadas constelações sistémicas ou familiares) que facilito\, são uma jornada profunda no universo das dinâmicas familiares ocultas. Esta técnica terapêutica não só desvenda padrões e emoções enraizadas na história familiar\, mas também abre caminhos para a resolução de conflitos e questões emocionais. Ao final de cada sessão\, realizo um trabalho de harmonização e reequilíbrio físico\, mental e emocional através das Terapias de Anura\, criando um elo perfeito entre a descoberta interior e o bem-estar integral. \nEstas sessões são um convite à transformação pessoal\, permitindo-te alinhar com a tua verdadeira essência e potencial de vida. Vais adorar este bálsamo vindo da Mãe Terra\, uma combinação enriquecedora que liga o poder das Constelações ao equilíbrio das Terapias de Anura. \n✤ Valor: 60€ por pessoa \nEstarei em Santa Maria da Feira\, no Espaço “Cura e Vitalidade” a facilitar constelações no dia 15 de setembro (parte da tarde). \n▶︎ Para te inscreveres e descobrires mais\, clica aqui.  Em alternativa\, envia um email para eventos.esmeraldarios@gmail.com \nCom carinho\, \nEsmeralda
URL:https://www.caminhosdeanura.com/agenda/constelacoes-da-alma-santa-maria-da-feira/
LOCATION:Santa Maria da Feira\, Rua Santa Maria da Feira\, Loja 58\, Santa Maria da Feira\, 4520-294\, Portugal
CATEGORIES:Constelações
ATTACH;FMTTYPE=image/png:https://www.caminhosdeanura.com/wp-content/uploads/Copy-of-Constelacoes-Matosinhos-e-Lisboa-Imagem-1920-x-1080-px-2025-x-1012-px.png
END:VEVENT
END:VCALENDAR