BEGIN:VCALENDAR
VERSION:2.0
PRODID:-//Caminhos de Anura - ECPv6.3.3.1//NONSGML v1.0//EN
CALSCALE:GREGORIAN
METHOD:PUBLISH
X-ORIGINAL-URL:https://www.caminhosdeanura.com
X-WR-CALDESC:Events for Caminhos de Anura
REFRESH-INTERVAL;VALUE=DURATION:PT1H
X-Robots-Tag:noindex
X-PUBLISHED-TTL:PT1H
BEGIN:VTIMEZONE
TZID:Europe/Lisbon
BEGIN:DAYLIGHT
TZOFFSETFROM:+0000
TZOFFSETTO:+0100
TZNAME:WEST
DTSTART:20240331T010000
END:DAYLIGHT
BEGIN:STANDARD
TZOFFSETFROM:+0100
TZOFFSETTO:+0000
TZNAME:WET
DTSTART:20241027T010000
END:STANDARD
END:VTIMEZONE
BEGIN:VEVENT
DTSTART;TZID=Europe/Lisbon:20240609T143000
DTEND;TZID=Europe/Lisbon:20240609T170000
DTSTAMP:20260424T004911
CREATED:20240531T165621Z
LAST-MODIFIED:20240531T165621Z
UID:6733-1717943400-1717952400@www.caminhosdeanura.com
SUMMARY:Constelações da Alma - Lisboa
DESCRIPTION:As Constelações da Alma (também chamadas constelações sistémicas ou familiares) que facilito\, são uma jornada profunda no universo das dinâmicas familiares ocultas. Esta técnica terapêutica não só desvenda padrões e emoções enraizadas na história familiar\, mas também abre caminhos para a resolução de conflitos e questões emocionais. Ao final de cada sessão\, realizo um trabalho de harmonização e reequilíbrio físico\, mental e emocional através das Terapias de Anura\, criando um elo perfeito entre a descoberta interior e o bem-estar integral. \nEstas sessões são um convite à transformação pessoal\, permitindo-te alinhar com a tua verdadeira essência e potencial de vida. Vais adorar este bálsamo vindo da Mãe Terra\, uma combinação enriquecedora que liga o poder das Constelações ao equilíbrio das Terapias de Anura. \n✤ Valor: 60€ por pessoa \nEstarei em Lisboa\, no Espaço “Alma Sã” a facilitar constelações no dia 9 de maio (parte da tarde). \n▶︎ Para te inscreveres e descobrires mais\, clica aqui.  Em alternativa\, envia um email para eventos.esmeraldarios@gmail.com \nCom carinho\, \nEsmeralda
URL:https://www.caminhosdeanura.com/agenda/constelacoes-da-alma-lisboa-2/
LOCATION:Cacém\, Rua das Glicínias 7\, Loja 7A\, Agualva\, Cacém\, 2735-275\, Portugal
CATEGORIES:Constelações
END:VEVENT
BEGIN:VEVENT
DTSTART;TZID=Europe/Lisbon:20240623T143000
DTEND;TZID=Europe/Lisbon:20240623T173000
DTSTAMP:20260424T004911
CREATED:20240531T170951Z
LAST-MODIFIED:20240531T170951Z
UID:6740-1719153000-1719163800@www.caminhosdeanura.com
SUMMARY:Constelações da Alma - Funchal
DESCRIPTION:As Constelações da Alma (também chamadas constelações sistémicas ou familiares) que facilito\, são uma jornada profunda no universo das dinâmicas familiares ocultas. Esta técnica terapêutica não só desvenda padrões e emoções enraizadas na história familiar\, mas também abre caminhos para a resolução de conflitos e questões emocionais. Ao final de cada sessão\, realizo um trabalho de harmonização e reequilíbrio físico\, mental e emocional através das Terapias de Anura\, criando um elo perfeito entre a descoberta interior e o bem-estar integral. \nEstas sessões são um convite à transformação pessoal\, permitindo-te alinhar com a tua verdadeira essência e potencial de vida. Vais adorar este bálsamo vindo da Mãe Terra\, uma combinação enriquecedora que liga o poder das Constelações ao equilíbrio das Terapias de Anura. \n✤ Valor: 60€ por pessoa \nEstarei no Funchal no “Portal das Artes” a facilitar constelações no dia 23 de junho (parte da tarde). \n▶︎ Para te inscreveres e descobrires mais\,  Em alternativa\, envia um email para eventos.esmeraldarios@gmail.com \nCom carinho\, \nEsmeralda \nNota: Nos dias 21 e 22 estarei também a dar Consultas Individuais no Portal das Artes. Sabe mais no separador “Consultas” na agenda.
URL:https://www.caminhosdeanura.com/agenda/constelacoes-da-alma-funchal-2/
LOCATION:Funchal\, Rua do Esmeraldo\, 41 São Martinho\, Funchal\, Madeira\, 9000-051\, Portugal
CATEGORIES:Constelações
END:VEVENT
END:VCALENDAR