BEGIN:VCALENDAR
VERSION:2.0
PRODID:-//Caminhos de Anura - ECPv6.3.3.1//NONSGML v1.0//EN
CALSCALE:GREGORIAN
METHOD:PUBLISH
X-WR-CALNAME:Caminhos de Anura
X-ORIGINAL-URL:https://www.caminhosdeanura.com
X-WR-CALDESC:Events for Caminhos de Anura
REFRESH-INTERVAL;VALUE=DURATION:PT1H
X-Robots-Tag:noindex
X-PUBLISHED-TTL:PT1H
BEGIN:VTIMEZONE
TZID:Europe/Lisbon
BEGIN:DAYLIGHT
TZOFFSETFROM:+0000
TZOFFSETTO:+0100
TZNAME:WEST
DTSTART:20260329T010000
END:DAYLIGHT
BEGIN:STANDARD
TZOFFSETFROM:+0100
TZOFFSETTO:+0000
TZNAME:WET
DTSTART:20261025T010000
END:STANDARD
END:VTIMEZONE
BEGIN:VEVENT
DTSTART;TZID=Europe/Lisbon:20260204T080000
DTEND;TZID=Europe/Lisbon:20260504T170000
DTSTAMP:20260426T014452
CREATED:20260103T172143Z
LAST-MODIFIED:20260407T155239Z
UID:7186-1770192000-1777914000@www.caminhosdeanura.com
SUMMARY:Curso de Tarot de Anura®
DESCRIPTION:Um caminho de autodescoberta e transformação. \n  \n📅 Início: 4 de ​f​evereiro de 2026 \n🌐 100% online \n  \nEste curso é para ti se sentes que:\n– Queres mais clareza e alinhamento\n– Estás cansado(a) de repetir os mesmos padrões\n– Queres aprofundar a tua conexão contigo e com a Vida\n– Procuras uma ferramenta que te acompanhe para além do curso \n  \n🎁 Bónus 1 (até 25 de janeiro):\nLeitura Personalizada dos Potenciais para 2026 \n  \n🎁 Bónus 2 (para os alunos que estiverem presentes nas aulas práticas):\nLeitura dos Potenciais de Vida. \n  \n📅 Data limite das incrições: 1 de fevereiro de 2026 \n📌 As vagas são limitadas. \n  \nToda a informação detalhada está disponível 👉 aqui \n 
URL:https://www.caminhosdeanura.com/agenda/curso-de-tarot-de-anura/
LOCATION:Online
CATEGORIES:Cursos
ATTACH;FMTTYPE=image/png:https://www.caminhosdeanura.com/wp-content/uploads/tarot_email-cover.png
END:VEVENT
BEGIN:VEVENT
DTSTART;TZID=Europe/Lisbon:20260424T100000
DTEND;TZID=Europe/Lisbon:20260426T183000
DTSTAMP:20260426T014452
CREATED:20260319T180128Z
LAST-MODIFIED:20260319T180128Z
UID:7275-1777024800-1777228200@www.caminhosdeanura.com
SUMMARY:Consultas - Funchal
DESCRIPTION:As Consultas Individuais que facilito com as Terapias de Anura® são uma jornada de autoconhecimento e renovação. São ideais para quem procura orientação clara e equilíbrio físico\, mental e emocional sem depender de oráculos. \n  \nPor isso\, se procuras elevar a tua frequência vibratória\, mudar padrões negativos\, se estás comprometido(a) com as mudanças verdadeiras que vêm do coração\, estas consultas são para ti. Oferecem-te um caminho para a reconexão com a tua essência e facilitam a mudança positiva da tua  realidade\, libertando-te de aspectos negativos limitadores e abrindo espaço para uma vida plena e cheia de harmonia e gratidão. \n  \n📆  Abril/2026 –  24\, 25 e 26 \n  \n🌸 Valor de troca: \nConsulta de 1h: 90€ \n  \n  \n📍 Local: \nPortal das Artes – R. do Esmeraldo 41\, São Martinho\, 9000-051 Funchal \n  \nMarca já a tua consulta aqui \nou envia email para eventos.esmeraldarios@gmail.com \n  \nCom carinho\, \nEsmeralda Rios
URL:https://www.caminhosdeanura.com/agenda/consultas-funchal-7/
LOCATION:Funchal\, Rua do Esmeraldo\, 41 São Martinho\, Funchal\, Madeira\, 9000-051\, Portugal
CATEGORIES:Consultas
ATTACH;FMTTYPE=image/png:https://www.caminhosdeanura.com/wp-content/uploads/Consultas-Imagem-1080-x-1080-px-1920-x-1080-px-1.png
END:VEVENT
BEGIN:VEVENT
DTSTART;VALUE=DATE:20260426
DTEND;VALUE=DATE:20260427
DTSTAMP:20260426T014452
CREATED:20260319T180453Z
LAST-MODIFIED:20260319T180453Z
UID:7277-1777161600-1777247999@www.caminhosdeanura.com
SUMMARY:Constelações da Alma - Funchal
DESCRIPTION:As constelações familiares revelam os segredos que ecoam através das gerações de uma família\, permitindo que se faça luz na essência dos desafios que se apresentam. \nElas convidam-nos a explorar padrões pessoais que se repetem\, como um eco misterioso que ressoa sem um motivo claro. \nEstes movimentos sistémicos mostram-nos o que está oculto\, como as experiências passadas\, nossas e dos que nos precederam; que moldaram as situações que vivemos e revelam-nos também como o nosso plano inconsciente nos leva a repetir essa dança. \n  \nQuais áreas da vida podem ser tocadas por esses ecos? \nA prosperidade\, os relacionamentos amorosos e amizades\, a saúde\, as oportunidades que surgem (ou não)… \n\nSe procuras compreender mais sobre a tua linhagem ou aspectos do teu caminho pessoal\nSe queres dar-te a possibilidade de resolver situações com que te debates e que te fazem infeliz\nSe estás disposto(a) a fazer mudanças…\n\nEntão tens aqui a oportunidade de fazer a diferença e te colocares em primeiro lugar. \n  \nNeste evento\, convido-te a participar de uma experiência que vai além da constelação: \n–  É um verdadeiro movimento terapêutico que te conecta às histórias que te precederam e te permite reescrevê-las. \nFacilitarei exercícios sistémicos que te ajudarão a desvendar os padrões que estão cristalizados em ti\, mostrando-te o caminho para os poderes transformar. \nSerás parte de um processo de constelação familiar\, não apenas como observador\, mas também partilhando a tua temática. \nNo final\, desfrutarás de um alinhamento de chacras com os Florais de Anura® e poderás esclarecer as tuas dúvidas\, recebendo orientações sintonizadas por mim. \n   \nSe tudo isso ressoou em ti clica aqui \nou envia email para eventos.esmeraldarios@gmail.com \n  \n💰Preço: \n🌸 65€ por pessoa \n  \n🕑 Horário: \nDas 14h30 às 17h30 \n  \n📍 Local: \nPortal das Artes \nRua do Esmeraldo\, 41 \n9000-051 Funchal
URL:https://www.caminhosdeanura.com/agenda/constelacoes-da-alma-funchal-5/
LOCATION:Funchal\, Rua do Esmeraldo\, 41 São Martinho\, Funchal\, Madeira\, 9000-051\, Portugal
CATEGORIES:Constelações
ATTACH;FMTTYPE=image/png:https://www.caminhosdeanura.com/wp-content/uploads/SIM-1.png
END:VEVENT
END:VCALENDAR